BEGIN:VCALENDAR
VERSION:2.0
PRODID:-//Gentle Souls Genève Switzerland - ECPv6.15.20//NONSGML v1.0//EN
CALSCALE:GREGORIAN
METHOD:PUBLISH
X-WR-CALNAME:Gentle Souls Genève Switzerland
X-ORIGINAL-URL:https://www.gentlesouls.ch
X-WR-CALDESC:Évènements pour Gentle Souls Genève Switzerland
REFRESH-INTERVAL;VALUE=DURATION:PT1H
X-Robots-Tag:noindex
X-PUBLISHED-TTL:PT1H
BEGIN:VTIMEZONE
TZID:Europe/Zurich
BEGIN:DAYLIGHT
TZOFFSETFROM:+0100
TZOFFSETTO:+0200
TZNAME:CEST
DTSTART:20250330T010000
END:DAYLIGHT
BEGIN:STANDARD
TZOFFSETFROM:+0200
TZOFFSETTO:+0100
TZNAME:CET
DTSTART:20251026T010000
END:STANDARD
BEGIN:DAYLIGHT
TZOFFSETFROM:+0100
TZOFFSETTO:+0200
TZNAME:CEST
DTSTART:20260329T010000
END:DAYLIGHT
BEGIN:STANDARD
TZOFFSETFROM:+0200
TZOFFSETTO:+0100
TZNAME:CET
DTSTART:20261025T010000
END:STANDARD
BEGIN:DAYLIGHT
TZOFFSETFROM:+0100
TZOFFSETTO:+0200
TZNAME:CEST
DTSTART:20270328T010000
END:DAYLIGHT
BEGIN:STANDARD
TZOFFSETFROM:+0200
TZOFFSETTO:+0100
TZNAME:CET
DTSTART:20271031T010000
END:STANDARD
END:VTIMEZONE
BEGIN:VEVENT
DTSTART;TZID=Europe/Zurich:20260207T181500
DTEND;TZID=Europe/Zurich:20260207T203000
DTSTAMP:20260421T143417
CREATED:20260204T181133Z
LAST-MODIFIED:20260204T181133Z
UID:324-1770488100-1770496200@www.gentlesouls.ch
SUMMARY:🎬 Rental Family
DESCRIPTION:Hello gentle souls\, \nI’d love to invite you to join me for a quiet\, meaningful evening at the cinema — to watch “Rental Family” at Arena Cinéma Praille. \n📅 Date: Saturday\, 7 February 2026\n⏰ Meetup: 30 minutes before the screening time 18:15\, we’ll buy tickets together in front of the cinema\n📍 Location: Arena Cinéma Praille\, Genève\n🎟️ Ticket price: See tariffs here\n👥 Max 4 people — to keep it chill and cosy
URL:https://www.gentlesouls.ch/evenements/%f0%9f%8e%ac-rental-family/
LOCATION:La Praille\, Route des Jeunes 10\, 1212 Grand-Lancy\, Grand-Lancy\, Genève\, 1212\, Switzerland
ATTACH;FMTTYPE=image/jpeg:https://www.gentlesouls.ch/wp-content/uploads/2026/02/1023039.ch_de.jpg
ORGANIZER;CN="Sirvan Kara":MAILTO:sirvan@ik.me
END:VEVENT
BEGIN:VEVENT
DTSTART;TZID=Europe/Zurich:20260217T170000
DTEND;TZID=Europe/Zurich:20260217T190000
DTSTAMP:20260421T143417
CREATED:20260127T213646Z
LAST-MODIFIED:20260417T163047Z
UID:305-1771347600-1771354800@www.gentlesouls.ch
SUMMARY:✨ Apprivoiser son hypersensibilité : mythes et boîte à outils ✨
DESCRIPTION:Salut Gentle Souls\, \nJe vous invite à me rejoindre pour un atelier enrichissant organisé par le Collège du Rétablissement\, animé par Agnès Borgey et Laure Corpataux. \nPourquoi venir ?\nPour explorer concrètement comment faire face aux idées reçues sur l’hypersensibilité\, et apprendre à transformer cette intensité en sérénité — pour vivre votre quotidien avec plus de délicatesse et d’harmonie. \n📅 Date : Mardi 17 février 2026\n⏰ Heure : 17h00 – 19h00\n📍 Lieu : Collège du Rétablissement — 1 Avenue du Mail\, 1205 Genève (Suisse)\n🎟️ Gratuit — Inscription obligatoire ici \n👉 Inscrivez-vous vite — places limitées !
URL:https://www.gentlesouls.ch/evenements/%e2%9c%a8-apprivoiser-son-hypersensibilite-mythes-et-boite-a-outils-%e2%9c%a8/
LOCATION:Collège du Rétablissement\, 1 Avenue du Mail\, Genève\, Switzerland
ATTACH;FMTTYPE=image/avif:https://www.gentlesouls.ch/wp-content/uploads/2026/01/02ef1d_b9d5fa9effd042b9b99b0066dda4c3cbmv2.avif
ORGANIZER;CN="Sirvan Kara":MAILTO:sirvan@ik.me
END:VEVENT
END:VCALENDAR